BEGIN:VCALENDAR
VERSION:2.0
PRODID:-//Genetics//NONSGML Events//EN
CALSCALE:GREGORIAN
X-ORIGINAL-URL:https://genetics.wustl.edu/events/
X-WR-CALDESC:Genetics - Events
BEGIN:VEVENT
UID:20240303T0320Z-1709436014.8331-EO-2823-1@10.73.2.159
STATUS:CONFIRMED
DTSTAMP:20260417T200057Z
CREATED:20240303T013228Z
LAST-MODIFIED:20240303T013324Z
DTSTART;TZID=America/Chicago:20240311T120000
DTEND;TZID=America/Chicago:20240311T130000
SUMMARY: Aki Ushiki\, PhD *NOTE: Special Date\, Time\, & Location*
DESCRIPTION: Aki Ushiki\, PhD Postdoctoral Scholar Department of Bioenginee
 ring & Therapeeutic Sciences University of California\, San Francisco Prese
 nts\, “Exploring Enhancers: Unveiling Skeletal Development and Disease” Hos
 ted by Dr. Barak Cohen In Person Only: Holden Auditorium – FLTC
X-ALT-DESC;FMTTYPE=text/html: <p><strong>Aki Ushiki\, PhD</strong></p><p>Po
 stdoctoral Scholar</p><p>Department of Bioengineering & Therapeeutic Scienc
 es</p><p>University of California\, San Francisco</p><p>Presents\, "Explori
 ng Enhancers: Unveiling Skeletal Development and Disease"</p><p>Hosted by D
 r. Barak Cohen</p><p>In Person Only: Holden Auditorium - FLTC</p>
CATEGORIES:SPECIAL SEMINAR
LOCATION:Holden Auditorium
GEO:38.636879;-90.262646
ORGANIZER;CN="Michelle Gibbs":MAILTO:gibbsm@wustl.edu
URL;VALUE=URI:https://genetics.wustl.edu/events/event/aki-ushiki-phd-note-s
 pecial-date-time-location/
END:VEVENT
BEGIN:VTIMEZONE
TZID:America/Chicago
BEGIN:DAYLIGHT
TZOFFSETFROM:-0600
TZOFFSETTO:-0500
DTSTART:20240310T080000
TZNAME:CDT
END:DAYLIGHT
END:VTIMEZONE
END:VCALENDAR
