BEGIN:VCALENDAR
VERSION:2.0
PRODID:-//Genetics//NONSGML Events//EN
CALSCALE:GREGORIAN
X-ORIGINAL-URL:https://genetics.wustl.edu/events/
X-WR-CALDESC:Genetics - Events
BEGIN:VEVENT
UID:20241210T1520Z-1733844002.4761-EO-3701-1@10.73.10.188
STATUS:CONFIRMED
DTSTAMP:20260417T200109Z
CREATED:20241210T143903Z
LAST-MODIFIED:20260317T174846Z
DTSTART;TZID=America/Chicago:20260514T120000
DTEND;TZID=America/Chicago:20260514T130000
SUMMARY: Genetics Seminar Series – Valeria Cavalli\, PhD
DESCRIPTION: Valeria Cavalli\, PhD Robert E. and Louise F. Dunn Professor o
 f Biomedical Research Department of Neuroscience WashU Medicine Talk Title:
  Glial modulation of sensory function and nerve repair Abstract: Host: Dr. 
 Guoyan Zhao
X-ALT-DESC;FMTTYPE=text/html: <h4><strong>Valeria Cavalli\, PhD</strong></h
 4><p>Robert E. and Louise F. Dunn Professor of Biomedical Research</p><p>De
 partment of Neuroscience</p><p>WashU Medicine</p><p>Talk Title: <em>Glial m
 odulation of sensory function and nerve repair</em></p><p>Abstract:</p><p>H
 ost: Dr. Guoyan Zhao</p>
CATEGORIES:Spring 2026
LOCATION:Connor Auditorium
GEO:38.635470;-90.262723
ORGANIZER;CN="Michelle Gibbs":MAILTO:gibbsm@wustl.edu
URL;VALUE=URI:https://genetics.wustl.edu/events/event/cavalli-valeria-2026/
END:VEVENT
BEGIN:VTIMEZONE
TZID:America/Chicago
BEGIN:DAYLIGHT
TZOFFSETFROM:-0600
TZOFFSETTO:-0500
DTSTART:20260308T080000
TZNAME:CDT
END:DAYLIGHT
END:VTIMEZONE
END:VCALENDAR
