BEGIN:VCALENDAR
VERSION:2.0
PRODID:-//Genetics//NONSGML Events//EN
CALSCALE:GREGORIAN
X-ORIGINAL-URL:https://genetics.wustl.edu/events/
X-WR-CALDESC:Genetics - Events
BEGIN:VEVENT
UID:20260217T2100Z-1771362054.8833-EO-4723-1@10.73.8.232
STATUS:CONFIRMED
DTSTAMP:20260424T142358Z
CREATED:20260217T193655Z
LAST-MODIFIED:20260217T193655Z
DTSTART;TZID=America/Chicago:20261001T120000
DTEND;TZID=America/Chicago:20261001T130000
SUMMARY: Genetics Seminar – Precision Medicine Pathways Keynote Lecture
X-ALT-DESC;FMTTYPE=text/html: 
ORGANIZER;CN="Michelle Gibbs":MAILTO:gibbsm@wustl.edu
URL;VALUE=URI:https://genetics.wustl.edu/events/event/genetics-seminar-prec
 ision-medicine-pathways-keynote-lecture/
END:VEVENT
BEGIN:VTIMEZONE
TZID:America/Chicago
BEGIN:DAYLIGHT
TZOFFSETFROM:-0600
TZOFFSETTO:-0500
DTSTART:20260308T080000
TZNAME:CDT
END:DAYLIGHT
END:VTIMEZONE
END:VCALENDAR
