BEGIN:VCALENDAR
VERSION:2.0
PRODID:-//Genetics//NONSGML Events//EN
CALSCALE:GREGORIAN
X-ORIGINAL-URL:https://genetics.wustl.edu/events/
X-WR-CALDESC:Genetics - Events
BEGIN:VEVENT
UID:20250106T2052Z-1736196770.674-EO-3731-1@10.73.10.188
STATUS:CONFIRMED
DTSTAMP:20260417T200115Z
CREATED:20250106T203419Z
LAST-MODIFIED:20250107T214354Z
DTSTART;TZID=America/Chicago:20250121T120000
DTEND;TZID=America/Chicago:20250121T130000
SUMMARY: Genetics Special Seminar: Bing Ren\, PhD
DESCRIPTION: Bing Ren\, PhD\, Professor-Department of Cellular and Molecula
 r Medicine\, Founding Director-Center for Epigenomics\, University of Calif
 ornia\, San Diego Presents: Beyond the genetic code – Exploring Non-Coding 
 DNA’s Role in Human Health and Disease through Single-Cell Atlases and Deep
  Learning Host:  Dr. Ting Wang In person only:  Connor Auditorium (FLTC) Ab
 stract: In this seminar\, I will […]
X-ALT-DESC;FMTTYPE=text/html: <h3>Bing Ren\, PhD\, Professor-Department of 
 Cellular and Molecular Medicine\, Founding Director-Center for Epigenomics\
 , University of California\, San Diego</h3><p>Presents: <em>Beyond the gene
 tic code - Exploring Non-Coding DNA's Role in Human Health and Disease thro
 ugh Single-Cell Atlases and Deep Learning</em></p><p>Host:  Dr. Ting Wang</
 p><p>In person only:  Connor Auditorium (FLTC)</p><p>Abstract: In this semi
 nar\, I will explore how integrating single-cell epigenome atlases with dee
 p learning techniques enables us to delve deeper into the non-coding genome
 's role in human health and disease. By combining high-resolution data with
  advanced computational models\, we are beginning to unravel the complex re
 gulatory networks that underlie genetic disorders\, moving beyond the genet
 ic code to a more comprehensive understanding of our genome.</p>
CATEGORIES:SPECIAL SEMINAR,Spring 2025
LOCATION:Connor Auditorium (FLTC)
GEO:0;0
ORGANIZER;CN="Michelle Gibbs":MAILTO:gibbsm@wustl.edu
URL;VALUE=URI:https://genetics.wustl.edu/events/event/genetics-special-semi
 nar-bing-ren-phd/
END:VEVENT
BEGIN:VTIMEZONE
TZID:America/Chicago
BEGIN:STANDARD
TZOFFSETFROM:-0500
TZOFFSETTO:-0600
DTSTART:20241103T070000
TZNAME:CST
END:STANDARD
END:VTIMEZONE
END:VCALENDAR
