BEGIN:VCALENDAR
VERSION:2.0
PRODID:-//Genetics//NONSGML Events//EN
CALSCALE:GREGORIAN
X-ORIGINAL-URL:https://genetics.wustl.edu/events/
X-WR-CALDESC:Genetics - Events
BEGIN:VEVENT
UID:20260306T1615Z-1772813727.9652-EO-4819-1@10.73.9.54
STATUS:CONFIRMED
DTSTAMP:20260417T200106Z
CREATED:20260306T155851Z
LAST-MODIFIED:20260306T162628Z
DTSTART;TZID=America/Chicago:20260313T123000
DTEND;TZID=America/Chicago:20260313T133000
SUMMARY: Genetics Special Seminar – Dr. Carol Wise
DESCRIPTION: Carol Wise\, PhD Director\, SRC Center for Translational Resea
 rch Professor\, Depts. of Orthopaedics\, Pediatrics\, McDermott Center UT S
 outhwestern Medical Center Title: Translating Genetic Discovery into Medici
 ne for Scoliosis Abstract: Scoliosis is the most common musculoskeletal dis
 order of childhood\, usually affecting adolescent girls. Using human geneti
 c\, vertebrate modeling\, and multi-omic approaches we are uncovering pathw
 ays of […]
X-ALT-DESC;FMTTYPE=text/html: <h4><a href="https://nam10.safelinks.protecti
 on.outlook.com/?url=https%3A%2F%2Fprofiles.utsouthwestern.edu%2Fprofile%2F1
 8075%2Fcarol-wise.html&data=05%7C02%7Cgibbsm%40wustl.edu%7C01d20f9eddf74461
 e8c408de7867981f%7C4ccca3b571cd4e6d974b4d9beb96c6d6%7C0%7C0%7C6390805835023
 73017%7CUnknown%7CTWFpbGZsb3d8eyJFbXB0eU1hcGkiOnRydWUsIlYiOiIwLjAuMDAwMCIsI
 lAiOiJXaW4zMiIsIkFOIjoiTWFpbCIsIldUIjoyfQ%3D%3D%7C0%7C%7C%7C&sdata=p4Xt8mA6
 2wbKDfyeXbDNOxn5uXqnUAOQJ7UstvVsbfY%3D&reserved=0">Carol Wise\, PhD</a></h4
 ><p class="elementToProof">Director\, SRC Center for Translational Research
 </p><p class="elementToProof">Professor\, Depts. of Orthopaedics\, Pediatri
 cs\, McDermott Center</p><p>UT Southwestern Medical Center</p><p>Title: <em
 >Translating Genetic Discovery into Medicine for Scoliosis</em></p><p>Abstr
 act: Scoliosis is the most common musculoskeletal disorder of childhood\, u
 sually affecting adolescent girls. Using human genetic\, vertebrate modelin
 g\, and multi-omic approaches we are uncovering pathways of spine developme
 nt and homeostasis that may become therapeutic targets for the prevention o
 f scoliosis.</p><p>Co-Hosts: Drs. Nancy Saccone & Aki Ushiki</p>
LOCATION:Couch Bldg.\, Rm. 6001B
GEO:38.634194;-90.260875
ORGANIZER;CN="Michelle Gibbs":MAILTO:gibbsm@wustl.edu
URL;VALUE=URI:https://genetics.wustl.edu/events/event/genetics-special-semi
 nar-dr-carol-wise/
END:VEVENT
BEGIN:VTIMEZONE
TZID:America/Chicago
BEGIN:DAYLIGHT
TZOFFSETFROM:-0600
TZOFFSETTO:-0500
DTSTART:20260308T080000
TZNAME:CDT
END:DAYLIGHT
END:VTIMEZONE
END:VCALENDAR
