BEGIN:VCALENDAR
VERSION:2.0
PRODID:-//Genetics//NONSGML Events//EN
CALSCALE:GREGORIAN
X-ORIGINAL-URL:https://genetics.wustl.edu/events/
X-WR-CALDESC:Genetics - Events
BEGIN:VEVENT
UID:20260219T1750Z-1771523420.107-EO-4764-1@10.73.8.232
STATUS:CONFIRMED
DTSTAMP:20260424T142411Z
CREATED:20260219T172709Z
LAST-MODIFIED:20260219T173038Z
DTSTART;TZID=America/Chicago:20260309T110000
DTEND;TZID=America/Chicago:20260309T120000
SUMMARY: Genetics Special Seminar – Yang Xie\, MD\, PhD
DESCRIPTION: Yang Xie\, MD\, PhD Professor & Associate Dean of Data Science
  Chair\, Department of Health Data Science and Biostatistics UT Southwester
 n Medical Center Talk Title: Data Science and AI in Precision Health Host: 
 Dr. Ting Wang Abstract:  Data science and artificial intelligence (AI) have
  emerged as powerful tools in biomedical research\, enabling the analysis o
 f […]
X-ALT-DESC;FMTTYPE=text/html: <h4>Yang Xie\, MD\, PhD</h4><p>Professor & As
 sociate Dean of Data Science</p><p>Chair\, Department of Health Data Scienc
 e and Biostatistics</p><p>UT Southwestern Medical Center</p><p><strong>Talk
  Title:</strong> <em>Data Science and AI in Precision Health</em></p><p><st
 rong>Host: Dr. Ting Wang</strong></p><p><strong>Abstract:</strong>  Data sc
 ience and artificial intelligence (AI) have emerged as powerful tools in bi
 omedical research\, enabling the analysis of complex\, high-dimensional bio
 medical and health data. This presentation will review selected studies tha
 t demonstrate how computational and AI-driven methodologies are applied to 
 advance biomedical research and precision health.</p><p> </p>
CATEGORIES:SPECIAL SEMINAR
LOCATION:EPNEC Seminar Rm B
GEO:38.636874;-90.262458
ORGANIZER;CN="Michelle Gibbs":MAILTO:gibbsm@wustl.edu
URL;VALUE=URI:https://genetics.wustl.edu/events/event/genetics-special-semi
 nar-yang-xie-md-phd/
END:VEVENT
BEGIN:VTIMEZONE
TZID:America/Chicago
BEGIN:DAYLIGHT
TZOFFSETFROM:-0600
TZOFFSETTO:-0500
DTSTART:20260308T080000
TZNAME:CDT
END:DAYLIGHT
END:VTIMEZONE
END:VCALENDAR
