BEGIN:VCALENDAR
VERSION:2.0
PRODID:-//Genetics//NONSGML Events//EN
CALSCALE:GREGORIAN
X-ORIGINAL-URL:https://genetics.wustl.edu/events/
X-WR-CALDESC:Genetics - Events
BEGIN:VEVENT
UID:20260217T2100Z-1771362054.9439-EO-4729-1@10.73.8.232
STATUS:CONFIRMED
DTSTAMP:20260417T200121Z
CREATED:20260217T194016Z
LAST-MODIFIED:20260303T222339Z
DTSTART;TZID=America/Chicago:20261112T120000
DTEND;TZID=America/Chicago:20261112T130000
SUMMARY: Genetics Seminar Series – Dr. Moritz Mall
X-ALT-DESC;FMTTYPE=text/html: 
CATEGORIES:Fall 2026
ORGANIZER;CN="Michelle Gibbs":MAILTO:gibbsm@wustl.edu
URL;VALUE=URI:https://genetics.wustl.edu/events/event/moritz-mall-2026/
END:VEVENT
BEGIN:VTIMEZONE
TZID:America/Chicago
BEGIN:STANDARD
TZOFFSETFROM:-0500
TZOFFSETTO:-0600
DTSTART:20261101T070000
TZNAME:CST
END:STANDARD
END:VTIMEZONE
END:VCALENDAR
