BEGIN:VCALENDAR
VERSION:2.0
PRODID:-//Genetics//NONSGML Events//EN
CALSCALE:GREGORIAN
X-ORIGINAL-URL:https://genetics.wustl.edu/events/
X-WR-CALDESC:Genetics - Events
BEGIN:VEVENT
UID:20240513T1949Z-1715629742.7191-EO-3094-1@10.73.2.159
STATUS:CONFIRMED
DTSTAMP:20260417T200120Z
CREATED:20240513T172738Z
LAST-MODIFIED:20240613T165421Z
DTSTART;VALUE=DATE:20241128
DTEND;VALUE=DATE:20241129
SUMMARY: No Seminar – Thanksgiving
X-ALT-DESC;FMTTYPE=text/html: 
CATEGORIES:Fall 2024
ORGANIZER;CN="e.gan":MAILTO:e.gan@wustl.edu
URL;VALUE=URI:https://genetics.wustl.edu/events/event/no-seminar-thanksgivi
 ng/
END:VEVENT
BEGIN:VTIMEZONE
TZID:America/Chicago
BEGIN:STANDARD
TZOFFSETFROM:-0500
TZOFFSETTO:-0600
DTSTART:20241103T070000
TZNAME:CST
END:STANDARD
END:VTIMEZONE
END:VCALENDAR
