BEGIN:VCALENDAR
VERSION:2.0
PRODID:-//Genetics//NONSGML Events//EN
CALSCALE:GREGORIAN
X-ORIGINAL-URL:https://genetics.wustl.edu/events/
X-WR-CALDESC:Genetics - Events
BEGIN:VEVENT
UID:20260217T2100Z-1771362055.0659-EO-4743-1@10.73.8.232
STATUS:CONFIRMED
DTSTAMP:20260417T200122Z
CREATED:20260217T201935Z
LAST-MODIFIED:20260217T201935Z
DTSTART;TZID=America/Chicago:20270128T120000
DTEND;TZID=America/Chicago:20270128T130000
SUMMARY: (OPEN) Genetics Seminar Series
X-ALT-DESC;FMTTYPE=text/html: 
ORGANIZER;CN="Michelle Gibbs":MAILTO:gibbsm@wustl.edu
URL;VALUE=URI:https://genetics.wustl.edu/events/event/open-genetics-seminar
 -series-32/
END:VEVENT
BEGIN:VTIMEZONE
TZID:America/Chicago
BEGIN:STANDARD
TZOFFSETFROM:-0500
TZOFFSETTO:-0600
DTSTART:20261101T070000
TZNAME:CST
END:STANDARD
END:VTIMEZONE
END:VCALENDAR
