BEGIN:VCALENDAR
VERSION:2.0
PRODID:-//Genetics//NONSGML Events//EN
CALSCALE:GREGORIAN
X-ORIGINAL-URL:https://genetics.wustl.edu/events/
X-WR-CALDESC:Genetics - Events
BEGIN:VEVENT
UID:20260217T2100Z-1771362055.0942-EO-4746-1@10.73.8.232
STATUS:CONFIRMED
DTSTAMP:20260417T200121Z
CREATED:20260217T202326Z
LAST-MODIFIED:20260223T221416Z
DTSTART;TZID=America/Chicago:20270218T120000
DTEND;TZID=America/Chicago:20270218T130000
SUMMARY: (HOLD for Special Purpose) Genetics Seminar Series
X-ALT-DESC;FMTTYPE=text/html: 
ORGANIZER;CN="Michelle Gibbs":MAILTO:gibbsm@wustl.edu
URL;VALUE=URI:https://genetics.wustl.edu/events/event/open-genetics-seminar
 -series-35/
END:VEVENT
BEGIN:VTIMEZONE
TZID:America/Chicago
BEGIN:STANDARD
TZOFFSETFROM:-0500
TZOFFSETTO:-0600
DTSTART:20261101T070000
TZNAME:CST
END:STANDARD
END:VTIMEZONE
END:VCALENDAR
