BEGIN:VCALENDAR
VERSION:2.0
PRODID:-//Genetics//NONSGML Events//EN
CALSCALE:GREGORIAN
X-ORIGINAL-URL:https://genetics.wustl.edu/events/
X-WR-CALDESC:Genetics - Events
BEGIN:VEVENT
UID:20260217T2100Z-1771362054.8742-EO-4722-1@10.73.8.232
STATUS:CONFIRMED
DTSTAMP:20260417T200105Z
CREATED:20260217T193555Z
LAST-MODIFIED:20260303T190739Z
DTSTART;TZID=America/Chicago:20260924T120000
DTEND;TZID=America/Chicago:20260924T130000
SUMMARY: Genetics Seminar Series – Andrew Holland\, PhD
DESCRIPTION: Andrew Holland\, PhD Associate Professor\, Johns Hopkins Unive
 rsity Talk Title: Abstract: Host: Dr. Susan Dutcher
X-ALT-DESC;FMTTYPE=text/html: <h3>Andrew Holland\, PhD</h3><p>Associate Pro
 fessor\, Johns Hopkins University</p><p>Talk Title:</p><p>Abstract:</p><p>H
 ost: Dr. Susan Dutcher</p>
ORGANIZER;CN="Michelle Gibbs":MAILTO:gibbsm@wustl.edu
URL;VALUE=URI:https://genetics.wustl.edu/events/event/open-genetics-seminar
 -series-6/
END:VEVENT
BEGIN:VTIMEZONE
TZID:America/Chicago
BEGIN:DAYLIGHT
TZOFFSETFROM:-0600
TZOFFSETTO:-0500
DTSTART:20260308T080000
TZNAME:CDT
END:DAYLIGHT
END:VTIMEZONE
END:VCALENDAR
