BEGIN:VCALENDAR
VERSION:2.0
PRODID:-//Genetics//NONSGML Events//EN
CALSCALE:GREGORIAN
X-ORIGINAL-URL:https://genetics.wustl.edu/events/
X-WR-CALDESC:Genetics - Events
BEGIN:VEVENT
UID:20241210T1520Z-1733844002.4829-EO-3702-1@10.73.10.188
STATUS:CONFIRMED
DTSTAMP:20260424T142401Z
CREATED:20241210T143930Z
LAST-MODIFIED:20260318T150309Z
DTSTART;TZID=America/Chicago:20260519T160000
DTEND;TZID=America/Chicago:20260519T170000
SUMMARY: Genetics Seminar Series – Shreffler Lecture\, Connie Cepko\, PhD
DESCRIPTION: Connie Cepko\, PhD Bullard Professor of Genetics and Neuroscie
 nce Department of Genetics Harvard Medical School Talk Title: How does the 
 retina make so many cell types? Abstract: Host: Dr. Ting Wang
X-ALT-DESC;FMTTYPE=text/html: <h4>Connie Cepko\, PhD</h4><p>Bullard Profess
 or of Genetics and Neuroscience</p><p>Department of Genetics</p><p>Harvard 
 Medical School</p><p>Talk Title: <em>How does the retina make so many cell 
 types?</em></p><p>Abstract:</p><p>Host: Dr. Ting Wang</p>
LOCATION:Connor Auditorium
GEO:38.635470;-90.262723
ORGANIZER;CN="Michelle Gibbs":MAILTO:gibbsm@wustl.edu
URL;VALUE=URI:https://genetics.wustl.edu/events/event/shreffler-cepko-conni
 e-2026/
END:VEVENT
BEGIN:VTIMEZONE
TZID:America/Chicago
BEGIN:DAYLIGHT
TZOFFSETFROM:-0600
TZOFFSETTO:-0500
DTSTART:20260308T080000
TZNAME:CDT
END:DAYLIGHT
END:VTIMEZONE
END:VCALENDAR
