BEGIN:VCALENDAR
VERSION:2.0
PRODID:-//Genetics//NONSGML Events//EN
CALSCALE:GREGORIAN
X-ORIGINAL-URL:https://genetics.wustl.edu/events/
X-WR-CALDESC:Genetics - Events
BEGIN:VEVENT
UID:20240425T1807Z-1714068451.9086-EO-3041-1@10.73.2.159
STATUS:CONFIRMED
DTSTAMP:20260424T011736Z
CREATED:20240425T174106Z
LAST-MODIFIED:20240429T193656Z
DTSTART;TZID=America/Chicago:20240514T160000
DTEND;TZID=America/Chicago:20240514T170000
SUMMARY: Shreffler Lecture: Len Pennacchio\, PhD
DESCRIPTION: Len Pennacchio\, PhD\, Deputy Director\, Joint Genome Institut
 e\, Senior Staff Scientist\, Lawrence Berkeley National Laboratory presents
 \, “In Vivo Studies of Human Genome Function” Hosted by:  Dr. Ting Wang In-
 person only:  Connor Auditorium (FLTC) Abstract: This lecture will focus on
  in vivo studies to better under human genome function.  This will include 
 screens for transcriptional enhancers\, developing […]
X-ALT-DESC;FMTTYPE=text/html: <p>Len Pennacchio\, PhD\, Deputy Director\, J
 oint Genome Institute\, Senior Staff Scientist\, Lawrence Berkeley National
  Laboratory</p><p>presents\, “In Vivo Studies of Human Genome Function”<br 
 />Hosted by:  Dr. Ting Wang<br />In-person only:  Connor Auditorium (FLTC)<
 /p><p>Abstract: This lecture will focus on in vivo studies to better under 
 human genome function.  This will include screens for transcriptional enhan
 cers\, developing bettter ways to assay them\, as well as the functional fo
 llow-up of compelling variants coming from human genetic studies.</p>
CATEGORIES:SPECIAL SEMINAR,Spring 2024
LOCATION:Connor Auditorium (FLTC)
GEO:0;0
ORGANIZER;CN="Michelle Gibbs":MAILTO:gibbsm@wustl.edu
URL;VALUE=URI:https://genetics.wustl.edu/events/event/shreffler-lecture-len
 -pennacchio-phd/
END:VEVENT
BEGIN:VTIMEZONE
TZID:America/Chicago
BEGIN:DAYLIGHT
TZOFFSETFROM:-0600
TZOFFSETTO:-0500
DTSTART:20240310T080000
TZNAME:CDT
END:DAYLIGHT
END:VTIMEZONE
END:VCALENDAR
