BEGIN:VCALENDAR
VERSION:2.0
PRODID:-//Genetics//NONSGML Events//EN
CALSCALE:GREGORIAN
X-ORIGINAL-URL:https://genetics.wustl.edu/events/
X-WR-CALDESC:Genetics - Events
BEGIN:VEVENT
UID:20231026T0537Z-1698298657.8664-EO-1978-1@10.73.2.159
STATUS:CONFIRMED
DTSTAMP:20260417T200109Z
CREATED:20231026T032846Z
LAST-MODIFIED:20231026T032846Z
DTSTART;TZID=America/Chicago:20231107T140000
DTEND;TZID=America/Chicago:20231107T150000
SUMMARY: Shuhua Xu\, PhD
DESCRIPTION: Shuhua Xu\, PhD Professor\, School of Life Sciences Fudan Univ
 ersity Presents\, “Genetic Diversity and a Pangenome Reference for Chinese 
 Populations” Hosted by:  Dr. Ting Wang In-person only:  Couch Building\, Rm
 . 6001B Talk abstract: The Chinese Pangenome Consortium (CPC) aims to produ
 ce high-quality genomic sequences from people representative of the majorit
 y ethnic group (Han) and the […]
X-ALT-DESC;FMTTYPE=text/html: <p><strong>Shuhua Xu\, PhD </strong></p><p>Pr
 ofessor\, School of Life Sciences<br />Fudan University</p><p>Presents\, “G
 enetic Diversity and a Pangenome Reference for Chinese Populations”<br />Ho
 sted by:  Dr. Ting Wang<br />In-person only:  Couch Building\, Rm. 6001B<br
  />Talk abstract: The Chinese Pangenome Consortium (CPC) aims to produce hi
 gh-quality genomic sequences from people representative of the majority eth
 nic group (Han) and the 55 other defined ethnic groups of China\, as well a
 s of multiple unrecognized ethnic groups not yet characterized genetically.
  In the first phase of the CPC’s pangenome project\, the CPC produced a col
 lection of 116 high-quality genome assemblies from 58 core individuals (one
  assembly for each of the two sets of chromosomes that each person carries)
  representing 36 non-Han Chinese ethnic groups. The CPC assemblies add 189 
 million base pairs of loosely packaged sequences that vary between individu
 als and duplications of 1\,367 protein-coding genes that were not included 
 in the widely used reference genome GRCh38. More than half of the sequences
  or variants uncovered in the CPC or HPRC data and not previously captured 
 in reference genomes showed an extremely low frequency (occurring in only o
 ne or two individuals). Thus\, these data highlight the need for comprehens
 ive sampling in both projects. Interestingly\, the previously unseen sequen
 ces added in these CPC assemblies were enriched with genes with ancient ori
 gins\, and genes associated with essential biological functions such as inf
 lammation and immunity. Thus\, the CPC data could have the potential for tr
 acing gaps in our understanding of human genetic evolution and for explaini
 ng the heritability of complex diseases that is not explained by known vari
 ants. We expect the CPC\, as part of global efforts in human genomics\, to 
 make a considerable contribution towards the building of high-quality pange
 nome references and their application to various basic and clinical researc
 h questions.</p>
CATEGORIES:Fall 2023
LOCATION:Couch Bldg.\, Rm. 6001B
GEO:38.634194;-90.260875
ORGANIZER;CN="Michelle Gibbs":MAILTO:gibbsm@wustl.edu
URL;VALUE=URI:https://genetics.wustl.edu/events/event/shuhua-xu-phd/
END:VEVENT
BEGIN:VTIMEZONE
TZID:America/Chicago
BEGIN:STANDARD
TZOFFSETFROM:-0500
TZOFFSETTO:-0600
DTSTART:20231105T070000
TZNAME:CST
END:STANDARD
END:VTIMEZONE
END:VCALENDAR
