BEGIN:VCALENDAR
VERSION:2.0
PRODID:-//Genetics//NONSGML Events//EN
CALSCALE:GREGORIAN
X-ORIGINAL-URL:https://genetics.wustl.edu/events/
X-WR-CALDESC:Genetics - Events
BEGIN:VEVENT
UID:20240626T2110Z-1719436255.7898-EO-3238-1@10.73.2.159
STATUS:CONFIRMED
DTSTAMP:20260417T200057Z
CREATED:20240626T210245Z
LAST-MODIFIED:20240628T170859Z
DTSTART;TZID=America/Chicago:20240702T150000
DTEND;TZID=America/Chicago:20240702T160000
SUMMARY: Turan Tufan\, MS
DESCRIPTION: Turan Tufan\, MS\, PhD Candidate\, Lab of Dr. Kodi Ravichandra
 n\, Department of Pathology and Immunology\, Washington University School o
 f Medicine presents: “Rapid unleashing of macrophage efferocytic capacity v
 ia transcriptional pause release” Hosted by: Dr. Jim Skeath In-person only:
   Holden Auditorium (FLTC)  
X-ALT-DESC;FMTTYPE=text/html: <p><strong>Turan Tufan\, MS\,</strong> PhD Ca
 ndidate\, Lab of Dr. Kodi Ravichandran\, Department of Pathology and Immuno
 logy\, Washington University School of Medicine</p><p>presents: "<em>Rapid 
 unleashing of macrophage efferocytic capacity via transcriptional pause rel
 ease</em>"<br />Hosted by: Dr. Jim Skeath<br />In-person only:  Holden Audi
 torium (FLTC)</p><p> </p>
CATEGORIES:SPECIAL SEMINAR
LOCATION:Holden Auditorium
GEO:38.636879;-90.262646
ORGANIZER;CN="Michelle Gibbs":MAILTO:gibbsm@wustl.edu
URL;VALUE=URI:https://genetics.wustl.edu/events/event/turan-tufan-ms/
END:VEVENT
BEGIN:VTIMEZONE
TZID:America/Chicago
BEGIN:DAYLIGHT
TZOFFSETFROM:-0600
TZOFFSETTO:-0500
DTSTART:20240310T080000
TZNAME:CDT
END:DAYLIGHT
END:VTIMEZONE
END:VCALENDAR
