BEGIN:VCALENDAR
VERSION:2.0
PRODID:-//Genetics//NONSGML Events//EN
CALSCALE:GREGORIAN
X-ORIGINAL-URL:https://genetics.wustl.edu/events/
X-WR-CALDESC:Genetics - Events
BEGIN:VEVENT
UID:20241210T1520Z-1733844002.3931-EO-3710-1@10.73.10.188
STATUS:CONFIRMED
DTSTAMP:20260417T200117Z
CREATED:20241210T144706Z
LAST-MODIFIED:20260218T192830Z
DTSTART;TZID=America/Chicago:20260219T120000
DTEND;TZID=America/Chicago:20260219T130000
SUMMARY: **CANCELLED* Genetics Seminar Series – Yang Xie\, MD\, PhD
DESCRIPTION: Yang Xie\, MD\, PhD Professor & Associate Dean of Data Science
  Chair\, Department of Health Data Science and Biostatistics UT Southwester
 n Medical Center Talk Title: Data Science and AI in Precision Health Host: 
 Dr. Ting Wang Abstract:  Data science and artificial intelligence (AI) have
  emerged as powerful tools in biomedical research\, enabling the analysis o
 f […]
X-ALT-DESC;FMTTYPE=text/html: <h4>Yang Xie\, MD\, PhD</h4><p>Professor & As
 sociate Dean of Data Science</p><p>Chair\, Department of Health Data Scienc
 e and Biostatistics</p><p>UT Southwestern Medical Center</p><p><strong>Talk
  Title:</strong> <em>Data Science and AI in Precision Health</em></p><p><st
 rong>Host: Dr. Ting Wang</strong></p><p><strong>Abstract:</strong>  Data sc
 ience and artificial intelligence (AI) have emerged as powerful tools in bi
 omedical research\, enabling the analysis of complex\, high-dimensional bio
 medical and health data. This presentation will review selected studies tha
 t demonstrate how computational and AI-driven methodologies are applied to 
 advance biomedical research and precision health.</p><p> </p>
CATEGORIES:SPECIAL SEMINAR
LOCATION:Connor Auditorium
GEO:38.635470;-90.262723
ORGANIZER;CN="Michelle Gibbs":MAILTO:gibbsm@wustl.edu
URL;VALUE=URI:https://genetics.wustl.edu/events/event/xie-y-2026/
END:VEVENT
BEGIN:VTIMEZONE
TZID:America/Chicago
BEGIN:STANDARD
TZOFFSETFROM:-0500
TZOFFSETTO:-0600
DTSTART:20251102T070000
TZNAME:CST
END:STANDARD
END:VTIMEZONE
END:VCALENDAR
